BEGIN:VCALENDAR
VERSION:2.0
PRODID:-//Portal das Crianças - ECPv4.6.8//NONSGML v1.0//EN
CALSCALE:GREGORIAN
METHOD:PUBLISH
X-WR-CALNAME:Portal das Crianças
X-ORIGINAL-URL:https://portaldascriancas.com
X-WR-CALDESC:Events for Portal das Crianças
BEGIN:VEVENT
DTSTART;TZID=UTC+0:20150530T103000
DTEND;TZID=UTC+0:20150530T113000
DTSTAMP:20260421T135815
CREATED:20150511T100331Z
LAST-MODIFIED:20150511T100331Z
UID:5314-1432981800-1432985400@portaldascriancas.com
SUMMARY:As Canções da Maria em Abrantes
DESCRIPTION:As Canções da Maria em Abrantes\nEstá quase a chegar o novo concerto com As Canções da Maria em Abrantes já no dia 30 de Maio de 2015. \nDuração 60 min \n  \nPreço – Entrada – € 10 \nDestinatários M/2 \nData – 2015-05-30 \nHorário – 10:30 \nLocal\nCineteatro São Pedro – Rua da Videira 11\nAbrantes\, Portugal \nAs Canções da Maria \n
URL:https://portaldascriancas.com/evento/as-cancoes-da-maria-em-abrantes/
LOCATION:Rua da Videira 11\, abrantes\, Portugal
ATTACH;FMTTYPE=image/jpeg:https://portaldascriancas.com/wp-content/uploads/2015/05/maria_abrantes.jpg
END:VEVENT
END:VCALENDAR