BEGIN:VCALENDAR
VERSION:2.0
PRODID:-//Portal das Crianças - ECPv4.6.8//NONSGML v1.0//EN
CALSCALE:GREGORIAN
METHOD:PUBLISH
X-WR-CALNAME:Portal das Crianças
X-ORIGINAL-URL:https://portaldascriancas.com
X-WR-CALDESC:Events for Portal das Crianças
BEGIN:VEVENT
DTSTART;TZID=UTC+0:20150514T103000
DTEND;TZID=UTC+0:20150517T170000
DTSTAMP:20260421T153028
CREATED:20150514T113113Z
LAST-MODIFIED:20150514T113231Z
UID:5343-1431599400-1431882000@portaldascriancas.com
SUMMARY:LUDICIDADE 2015
DESCRIPTION:LUDICIDADE 2015\nO evento LUDICIDADE 2015 são quatro dias de animação infantil com entrada livre no Parque da cidade no Porto junto ao Pavilhão da Água. \nEntre 14 e 17 de Maio de 2015\, a Associação de Ludotecas do Porto promove uma festa de quatro dias com atividades gratuitas para crianças: jogos tradicionais\, pinturas\, “faz de conta”\, “pinchonas”\, iniciação desportiva e outras surpresas. \nUma animação ao livre e de acesso gratuito\, entre o dia 14 e 17 Maio\, recheada de jogos para todas as idades \nPorto Lazer \n \n
URL:https://portaldascriancas.com/evento/ludicidade-2015/
LOCATION:porto\, 4100-183\, Portugal
ATTACH;FMTTYPE=image/jpeg:https://portaldascriancas.com/wp-content/uploads/2015/05/ludicidade.jpg
END:VEVENT
END:VCALENDAR