BEGIN:VCALENDAR
VERSION:2.0
PRODID:-//Portal das Crianças - ECPv4.6.8//NONSGML v1.0//EN
CALSCALE:GREGORIAN
METHOD:PUBLISH
X-WR-CALNAME:Portal das Crianças
X-ORIGINAL-URL:https://portaldascriancas.com
X-WR-CALDESC:Events for Portal das Crianças
BEGIN:VEVENT
DTSTART;VALUE=DATE:20151204
DTEND;VALUE=DATE:20160104
DTSTAMP:20260420T091253
CREATED:20141030T165615Z
LAST-MODIFIED:20151103T195621Z
UID:2473-1449187200-1451865599@portaldascriancas.com
SUMMARY:Óbidos Vila Natal 2015
DESCRIPTION:Óbidos Vila Natal 2015\nEstá a chegar o Óbidos Vila Natal 2015 \nÉ de 4 de Dezembro de 2015 a 3 de Janeiro de 2016. \n \n  \n
URL:https://portaldascriancas.com/evento/obidos-vila-natal-2014/
LOCATION:Obidos\, 2510\, Portugal
END:VEVENT
END:VCALENDAR